Package: GeoDiff Version: 1.12.0 Command: /home/biocbuild/bbs-3.20-bioc/R/bin/R CMD check --install=check:GeoDiff.install-out.txt --library=/home/biocbuild/bbs-3.20-bioc/R/site-library --timings GeoDiff_1.12.0.tar.gz StartedAt: 2025-02-03 22:45:43 -0500 (Mon, 03 Feb 2025) EndedAt: 2025-02-03 22:52:38 -0500 (Mon, 03 Feb 2025) EllapsedTime: 414.6 seconds RetCode: 0 Status: OK CheckDir: GeoDiff.Rcheck Warnings: 0