Package: GeoDiff Version: 1.12.0 Command: /home/biocbuild/bbs-3.20-bioc/R/bin/R CMD INSTALL GeoDiff StartedAt: 2025-02-03 16:10:24 -0500 (Mon, 03 Feb 2025) EndedAt: 2025-02-03 16:11:53 -0500 (Mon, 03 Feb 2025) EllapsedTime: 88.8 seconds RetCode: 0 Status: OK