Package: GeoDiff Version: 1.12.0 Command: chmod a+r GeoDiff -R && F:\biocbuild\bbs-3.20-bioc\R\bin\R.exe CMD build --keep-empty-dirs --no-resave-data GeoDiff StartedAt: 2025-02-03 19:26:04 -0500 (Mon, 03 Feb 2025) EndedAt: 2025-02-03 19:31:31 -0500 (Mon, 03 Feb 2025) EllapsedTime: 327.4 seconds RetCode: 0 Status: OK PackageFile: GeoDiff_1.12.0.tar.gz PackageFileSize: 4.344 MiB