Package: GeoDiff Version: 1.12.0 Command: F:\biocbuild\bbs-3.20-bioc\R\bin\R.exe CMD INSTALL GeoDiff StartedAt: 2025-02-03 17:13:44 -0500 (Mon, 03 Feb 2025) EndedAt: 2025-02-03 17:15:28 -0500 (Mon, 03 Feb 2025) EllapsedTime: 104.0 seconds RetCode: 0 Status: OK