Package: GeoDiff Version: 1.12.0 Command: /home/biocbuild/R/R/bin/R CMD build --keep-empty-dirs --no-resave-data GeoDiff StartedAt: 2025-02-03 23:52:35 -0000 (Mon, 03 Feb 2025) EndedAt: 2025-02-03 23:58:23 -0000 (Mon, 03 Feb 2025) EllapsedTime: 347.1 seconds RetCode: 0 Status: OK PackageFile: GeoDiff_1.12.0.tar.gz PackageFileSize: 4.395 MiB