Package: GeoTcgaData Version: 2.6.0 Command: /Library/Frameworks/R.framework/Resources/bin/R CMD INSTALL GeoTcgaData StartedAt: 2025-02-10 17:24:44 -0500 (Mon, 10 Feb 2025) EndedAt: 2025-02-10 17:25:39 -0500 (Mon, 10 Feb 2025) EllapsedTime: 55.0 seconds RetCode: 0 Status: OK