Package: GeoTcgaData Version: 2.6.0 Command: /Library/Frameworks/R.framework/Resources/bin/R CMD check --install=check:GeoTcgaData.install-out.txt --library=/Library/Frameworks/R.framework/Resources/library --no-vignettes --timings GeoTcgaData_2.6.0.tar.gz StartedAt: 2025-02-04 04:21:30 -0500 (Tue, 04 Feb 2025) EndedAt: 2025-02-04 04:28:47 -0500 (Tue, 04 Feb 2025) EllapsedTime: 436.9 seconds RetCode: 0 Status: OK CheckDir: GeoTcgaData.Rcheck Warnings: 0