Package: GeoTcgaData Version: 2.6.0 Command: rm -rf GeoTcgaData.buildbin-libdir && mkdir GeoTcgaData.buildbin-libdir && F:\biocbuild\bbs-3.20-bioc\R\bin\R.exe CMD INSTALL --build --library=GeoTcgaData.buildbin-libdir GeoTcgaData_2.6.0.tar.gz StartedAt: 2025-02-04 08:35:56 -0500 (Tue, 04 Feb 2025) EndedAt: 2025-02-04 08:36:52 -0500 (Tue, 04 Feb 2025) EllapsedTime: 56.6 seconds RetCode: 0 Status: OK PackageFile: GeoTcgaData_2.6.0.zip PackageFileSize: 3.448 MiB