Package: GeoTcgaData Version: 2.6.0 Command: /home/biocbuild/R/R/bin/R CMD INSTALL GeoTcgaData StartedAt: 2025-02-03 21:07:08 -0000 (Mon, 03 Feb 2025) EndedAt: 2025-02-03 21:07:53 -0000 (Mon, 03 Feb 2025) EllapsedTime: 44.5 seconds RetCode: 0 Status: OK