Package: GloScope Version: 1.4.0 Command: /Library/Frameworks/R.framework/Resources/bin/R CMD check --install=check:GloScope.install-out.txt --library=/Library/Frameworks/R.framework/Resources/library --no-vignettes --timings GloScope_1.4.0.tar.gz StartedAt: 2025-02-11 21:12:07 -0500 (Tue, 11 Feb 2025) EndedAt: 2025-02-11 21:24:04 -0500 (Tue, 11 Feb 2025) EllapsedTime: 716.4 seconds RetCode: 0 Status: OK CheckDir: GloScope.Rcheck Warnings: 0