Package: GloScope Version: 1.4.0 Command: /Library/Frameworks/R.framework/Resources/bin/R CMD INSTALL GloScope StartedAt: 2025-02-03 15:34:14 -0500 (Mon, 03 Feb 2025) EndedAt: 2025-02-03 15:35:07 -0500 (Mon, 03 Feb 2025) EllapsedTime: 52.5 seconds RetCode: 0 Status: OK