Package: GmicR Version: 1.20.0 Command: /Library/Frameworks/R.framework/Resources/bin/R CMD build --keep-empty-dirs --no-resave-data GmicR StartedAt: 2025-02-04 00:38:35 -0500 (Tue, 04 Feb 2025) EndedAt: 2025-02-04 00:50:21 -0500 (Tue, 04 Feb 2025) EllapsedTime: 705.9 seconds RetCode: 0 Status: OK PackageFile: GmicR_1.20.0.tar.gz PackageFileSize: 3.493 MiB