Package: GmicR Version: 1.20.0 Command: /Library/Frameworks/R.framework/Resources/bin/R CMD check --install=check:GmicR.install-out.txt --library=/Library/Frameworks/R.framework/Resources/library --no-vignettes --timings GmicR_1.20.0.tar.gz StartedAt: 2025-02-04 21:34:03 -0500 (Tue, 04 Feb 2025) EndedAt: 2025-02-04 21:51:50 -0500 (Tue, 04 Feb 2025) EllapsedTime: 1067.4 seconds RetCode: 0 Status: WARNINGS CheckDir: GmicR.Rcheck Warnings: 1