Package: GmicR Version: 1.20.0 Command: /Library/Frameworks/R.framework/Resources/bin/R CMD INSTALL GmicR StartedAt: 2025-02-03 17:12:15 -0500 (Mon, 03 Feb 2025) EndedAt: 2025-02-03 17:12:48 -0500 (Mon, 03 Feb 2025) EllapsedTime: 33.1 seconds RetCode: 0 Status: OK