Package: GmicR Version: 1.20.0 Command: rm -rf GmicR.buildbin-libdir && mkdir GmicR.buildbin-libdir && F:\biocbuild\bbs-3.20-bioc\R\bin\R.exe CMD INSTALL --build --library=GmicR.buildbin-libdir GmicR_1.20.0.tar.gz StartedAt: 2025-02-04 08:37:36 -0500 (Tue, 04 Feb 2025) EndedAt: 2025-02-04 08:38:45 -0500 (Tue, 04 Feb 2025) EllapsedTime: 69.0 seconds RetCode: 0 Status: OK PackageFile: GmicR_1.20.0.zip PackageFileSize: 3.453 MiB