Package: GmicR Version: 1.20.0 Command: chmod a+r GmicR -R && F:\biocbuild\bbs-3.20-bioc\R\bin\R.exe CMD build --keep-empty-dirs --no-resave-data GmicR StartedAt: 2025-02-03 19:31:38 -0500 (Mon, 03 Feb 2025) EndedAt: 2025-02-03 19:45:41 -0500 (Mon, 03 Feb 2025) EllapsedTime: 843.2 seconds RetCode: 0 Status: OK PackageFile: GmicR_1.20.0.tar.gz PackageFileSize: 3.4 MiB