Package: GrafGen Version: 1.2.0 Command: /Library/Frameworks/R.framework/Resources/bin/R CMD INSTALL GrafGen StartedAt: 2025-02-03 18:08:40 -0500 (Mon, 03 Feb 2025) EndedAt: 2025-02-03 18:09:07 -0500 (Mon, 03 Feb 2025) EllapsedTime: 26.4 seconds RetCode: 0 Status: OK