Package: GrafGen
Version: 1.1.0
Command: chmod a+r GrafGen -R && F:\biocbuild\bbs-3.20-bioc\R\bin\R.exe CMD build --keep-empty-dirs --no-resave-data GrafGen
StartedAt: 2024-06-09 19:25:27 -0400 (Sun, 09 Jun 2024)
EndedAt: 2024-06-09 19:27:14 -0400 (Sun, 09 Jun 2024)
EllapsedTime: 107.1 seconds
RetCode: 0
Status: OK
PackageFile: GrafGen_1.1.0.tar.gz
PackageFileSize: 2.986 <A href="http://en.wikipedia.org/wiki/MiB" target="_blank">MiB</A>