Package: GrafGen Version: 1.2.0 Command: chmod a+r GrafGen -R && F:\biocbuild\bbs-3.20-bioc\R\bin\R.exe CMD build --keep-empty-dirs --no-resave-data GrafGen StartedAt: 2025-02-03 19:34:39 -0500 (Mon, 03 Feb 2025) EndedAt: 2025-02-03 19:35:42 -0500 (Mon, 03 Feb 2025) EllapsedTime: 62.5 seconds RetCode: 0 Status: OK PackageFile: GrafGen_1.2.0.tar.gz PackageFileSize: 2.986 MiB