Package: GrafGen Version: 1.2.0 Command: /home/biocbuild/R/R/bin/R CMD check --install=check:GrafGen.install-out.txt --library=/home/biocbuild/R/R/site-library --no-vignettes --timings GrafGen_1.2.0.tar.gz StartedAt: 2025-02-04 07:37:16 -0000 (Tue, 04 Feb 2025) EndedAt: 2025-02-04 07:39:14 -0000 (Tue, 04 Feb 2025) EllapsedTime: 118.1 seconds RetCode: 0 Status: OK CheckDir: GrafGen.Rcheck Warnings: 0