Package: GrafGen
Version: 1.2.0
Command: /home/biocbuild/bbs-3.20-bioc/R/bin/R CMD check --install=check:GrafGen.install-out.txt --library=/home/biocbuild/bbs-3.20-bioc/R/site-library --timings GrafGen_1.2.0.tar.gz
StartedAt: 2024-11-20 04:00:12 -0500 (Wed, 20 Nov 2024)
EndedAt: 2024-11-20 04:02:02 -0500 (Wed, 20 Nov 2024)
EllapsedTime: 109.9 seconds
RetCode: 0
Status: OK
CheckDir: GrafGen.Rcheck
Warnings: 0