Package: GraphAT Version: 1.78.0 Command: /Library/Frameworks/R.framework/Resources/bin/R CMD build --keep-empty-dirs --no-resave-data GraphAT StartedAt: 2025-02-03 19:23:08 -0500 (Mon, 03 Feb 2025) EndedAt: 2025-02-03 19:23:13 -0500 (Mon, 03 Feb 2025) EllapsedTime: 4.4 seconds RetCode: 0 Status: OK PackageFile: GraphAT_1.78.0.tar.gz PackageFileSize: 1.884 MiB