Package: GraphAT Version: 1.78.0 Command: F:\biocbuild\bbs-3.20-bioc\R\bin\R.exe CMD check --no-multiarch --install=check:GraphAT.install-out.txt --library=F:\biocbuild\bbs-3.20-bioc\R\library --no-vignettes --timings GraphAT_1.78.0.tar.gz StartedAt: 2025-02-04 02:29:40 -0500 (Tue, 04 Feb 2025) EndedAt: 2025-02-04 02:30:56 -0500 (Tue, 04 Feb 2025) EllapsedTime: 75.7 seconds RetCode: 0 Status: OK CheckDir: GraphAT.Rcheck Warnings: 0