Package: GraphAT Version: 1.78.0 Command: F:\biocbuild\bbs-3.20-bioc\R\bin\R.exe CMD INSTALL GraphAT StartedAt: 2025-02-03 16:11:35 -0500 (Mon, 03 Feb 2025) EndedAt: 2025-02-03 16:11:50 -0500 (Mon, 03 Feb 2025) EllapsedTime: 14.7 seconds RetCode: 0 Status: OK