Package: GraphAlignment Version: 1.70.0 Command: /Library/Frameworks/R.framework/Resources/bin/R CMD build --keep-empty-dirs --no-resave-data GraphAlignment StartedAt: 2025-02-04 00:56:57 -0500 (Tue, 04 Feb 2025) EndedAt: 2025-02-04 00:57:12 -0500 (Tue, 04 Feb 2025) EllapsedTime: 15.8 seconds RetCode: 0 Status: OK PackageFile: GraphAlignment_1.70.0.tar.gz PackageFileSize: 591.9 KiB