Package: GraphAlignment Version: 1.70.0 Command: rm -rf GraphAlignment.buildbin-libdir && mkdir GraphAlignment.buildbin-libdir && /Users/biocbuild/BBS/utils/build-universal.sh GraphAlignment_1.70.0.tar.gz /Library/Frameworks/R.framework/Resources/bin/R GraphAlignment.buildbin-libdir StartedAt: 2025-02-04 13:06:17 -0500 (Tue, 04 Feb 2025) EndedAt: 2025-02-04 13:06:28 -0500 (Tue, 04 Feb 2025) EllapsedTime: 11.3 seconds RetCode: 0 Status: OK PackageFile: GraphAlignment_1.70.0.tgz PackageFileSize: 576 KiB