Package: GraphAlignment Version: 1.70.0 Command: /Library/Frameworks/R.framework/Resources/bin/R CMD build --keep-empty-dirs --no-resave-data GraphAlignment StartedAt: 2025-02-03 19:22:48 -0500 (Mon, 03 Feb 2025) EndedAt: 2025-02-03 19:23:08 -0500 (Mon, 03 Feb 2025) EllapsedTime: 20.7 seconds RetCode: 0 Status: OK PackageFile: GraphAlignment_1.70.0.tar.gz PackageFileSize: 591.7 KiB