Package: GraphAlignment Version: 1.70.0 Command: chmod a+r GraphAlignment -R && F:\biocbuild\bbs-3.20-bioc\R\bin\R.exe CMD build --keep-empty-dirs --no-resave-data GraphAlignment StartedAt: 2025-02-03 19:35:43 -0500 (Mon, 03 Feb 2025) EndedAt: 2025-02-03 19:36:09 -0500 (Mon, 03 Feb 2025) EllapsedTime: 25.7 seconds RetCode: 0 Status: OK PackageFile: GraphAlignment_1.70.0.tar.gz PackageFileSize: 454.9 KiB