Package: GraphAlignment
Version: 1.70.0
Command: F:\biocbuild\bbs-3.20-bioc\R\bin\R.exe CMD INSTALL GraphAlignment
StartedAt: 2025-02-17 15:19:36 -0500 (Mon, 17 Feb 2025)
EndedAt: 2025-02-17 15:20:05 -0500 (Mon, 17 Feb 2025)
EllapsedTime: 29.6 seconds
RetCode: 0
Status: OK