Package: GraphAlignment Version: 1.70.0 Command: /home/biocbuild/R/R/bin/R CMD build --keep-empty-dirs --no-resave-data GraphAlignment StartedAt: 2025-02-04 00:06:52 -0000 (Tue, 04 Feb 2025) EndedAt: 2025-02-04 00:06:59 -0000 (Tue, 04 Feb 2025) EllapsedTime: 7.0 seconds RetCode: 0 Status: OK PackageFile: GraphAlignment_1.70.0.tar.gz PackageFileSize: 576.1 KiB