Package: GreyListChIP Version: 1.38.0 Command: /Library/Frameworks/R.framework/Resources/bin/R CMD INSTALL GreyListChIP StartedAt: 2025-02-03 15:57:14 -0500 (Mon, 03 Feb 2025) EndedAt: 2025-02-03 15:57:55 -0500 (Mon, 03 Feb 2025) EllapsedTime: 41.0 seconds RetCode: 0 Status: OK