Package: GreyListChIP Version: 1.38.0 Command: /Library/Frameworks/R.framework/Resources/bin/R CMD check --install=check:GreyListChIP.install-out.txt --library=/Library/Frameworks/R.framework/Resources/library --no-vignettes --timings GreyListChIP_1.38.0.tar.gz StartedAt: 2025-02-04 04:40:33 -0500 (Tue, 04 Feb 2025) EndedAt: 2025-02-04 04:49:44 -0500 (Tue, 04 Feb 2025) EllapsedTime: 550.9 seconds RetCode: 0 Status: OK CheckDir: GreyListChIP.Rcheck Warnings: 0