Package: GreyListChIP Version: 1.38.0 Command: /home/biocbuild/bbs-3.20-bioc/R/bin/R CMD check --install=check:GreyListChIP.install-out.txt --library=/home/biocbuild/bbs-3.20-bioc/R/site-library --timings GreyListChIP_1.38.0.tar.gz StartedAt: 2025-02-03 22:58:56 -0500 (Mon, 03 Feb 2025) EndedAt: 2025-02-03 23:03:49 -0500 (Mon, 03 Feb 2025) EllapsedTime: 292.5 seconds RetCode: 0 Status: OK CheckDir: GreyListChIP.Rcheck Warnings: 0