Package: GreyListChIP Version: 1.37.0 Command: F:\biocbuild\bbs-3.20-bioc\R\bin\R.exe CMD check --no-multiarch --install=check:GreyListChIP.install-out.txt --library=F:\biocbuild\bbs-3.20-bioc\R\library --no-vignettes --timings GreyListChIP_1.37.0.tar.gz StartedAt: 2024-06-10 03:35:49 -0400 (Mon, 10 Jun 2024) EndedAt: 2024-06-10 03:42:41 -0400 (Mon, 10 Jun 2024) EllapsedTime: 412.2 seconds RetCode: 0 Status: OK CheckDir: GreyListChIP.Rcheck Warnings: 0