Package: GreyListChIP
Version: 1.37.0
Command: C:\Users\biocbuild\bbs-3.20-bioc\R\bin\R.exe CMD check --no-multiarch --install=check:GreyListChIP.install-out.txt --library=C:\Users\biocbuild\bbs-3.20-bioc\R\library --no-vignettes --timings GreyListChIP_1.37.0.tar.gz
StartedAt: 2024-07-16 00:37:53 -0400 (Tue, 16 Jul 2024)
EndedAt: 2024-07-16 00:42:23 -0400 (Tue, 16 Jul 2024)
EllapsedTime: 269.4 seconds
RetCode: 0
Status: OK
CheckDir: GreyListChIP.Rcheck
Warnings: 0