Package: GreyListChIP Version: 1.38.0 Command: chmod a+r GreyListChIP -R && F:\biocbuild\bbs-3.20-bioc\R\bin\R.exe CMD build --keep-empty-dirs --no-resave-data GreyListChIP StartedAt: 2025-02-03 19:35:54 -0500 (Mon, 03 Feb 2025) EndedAt: 2025-02-03 19:37:09 -0500 (Mon, 03 Feb 2025) EllapsedTime: 75.9 seconds RetCode: 0 Status: OK PackageFile: GreyListChIP_1.38.0.tar.gz PackageFileSize: 341.9 KiB