Package: GreyListChIP Version: 1.38.0 Command: F:\biocbuild\bbs-3.20-bioc\R\bin\R.exe CMD INSTALL GreyListChIP StartedAt: 2025-02-03 16:48:18 -0500 (Mon, 03 Feb 2025) EndedAt: 2025-02-03 16:49:14 -0500 (Mon, 03 Feb 2025) EllapsedTime: 56.1 seconds RetCode: 0 Status: OK