Package: GreyListChIP Version: 1.38.0 Command: /home/biocbuild/R/R/bin/R CMD build --keep-empty-dirs --no-resave-data GreyListChIP StartedAt: 2025-02-18 00:07:20 -0000 (Tue, 18 Feb 2025) EndedAt: 2025-02-18 00:08:19 -0000 (Tue, 18 Feb 2025) EllapsedTime: 59.0 seconds RetCode: 0 Status: OK PackageFile: GreyListChIP_1.38.0.tar.gz PackageFileSize: 334.5 <A href="http://en.wikipedia.org/wiki/KiB" target="_blank">KiB</A>