Package: Guitar
Version: 2.22.0
Maintainer: Jia Meng
MaintainerEmail: jia.meng at xjtlu.edu.cn
git_url: https://git.bioconductor.org/packages/Guitar
git_branch: RELEASE_3_20
git_last_commit: 9fa5a5f
git_last_commit_date: 2024-10-29 10:04:05 -0500 (Tue, 29 Oct 2024)