Package: Guitar Version: 2.22.0 Command: /Library/Frameworks/R.framework/Resources/bin/R CMD check --install=check:Guitar.install-out.txt --library=/Library/Frameworks/R.framework/Resources/library --no-vignettes --timings Guitar_2.22.0.tar.gz StartedAt: 2024-11-19 22:50:28 -0500 (Tue, 19 Nov 2024) EndedAt: 2024-11-19 22:59:01 -0500 (Tue, 19 Nov 2024) EllapsedTime: 513.2 seconds RetCode: 0 Status: OK CheckDir: Guitar.Rcheck Warnings: 0