Package: Guitar Version: 2.22.0 Command: rm -rf Guitar.buildbin-libdir && mkdir Guitar.buildbin-libdir && /Users/biocbuild/BBS/utils/build-universal.sh Guitar_2.22.0.tar.gz /Library/Frameworks/R.framework/Resources/bin/R Guitar.buildbin-libdir StartedAt: 2025-02-04 13:07:11 -0500 (Tue, 04 Feb 2025) EndedAt: 2025-02-04 13:08:40 -0500 (Tue, 04 Feb 2025) EllapsedTime: 88.8 seconds RetCode: 0 Status: OK PackageFile: Guitar_2.22.0.tgz PackageFileSize: 3.783 MiB