Package: Guitar Version: 2.22.0 Command: /Library/Frameworks/R.framework/Resources/bin/R CMD build --keep-empty-dirs --no-resave-data Guitar StartedAt: 2025-02-03 19:29:07 -0500 (Mon, 03 Feb 2025) EndedAt: 2025-02-03 19:52:29 -0500 (Mon, 03 Feb 2025) EllapsedTime: 1402.1 seconds RetCode: 0 Status: OK PackageFile: Guitar_2.22.0.tar.gz PackageFileSize: 3.719 MiB