Package: Guitar Version: 2.22.0 Command: /home/biocbuild/bbs-3.20-bioc/R/bin/R CMD build --keep-empty-dirs --no-resave-data --md5 Guitar StartedAt: 2025-02-03 17:44:13 -0500 (Mon, 03 Feb 2025) EndedAt: 2025-02-03 17:54:35 -0500 (Mon, 03 Feb 2025) EllapsedTime: 621.9 seconds RetCode: 0 Status: OK PackageFile: Guitar_2.22.0.tar.gz PackageFileSize: 3.72 MiB