Package: Guitar Version: 2.22.0 Command: /home/biocbuild/bbs-3.20-bioc/R/bin/R CMD check --install=check:Guitar.install-out.txt --library=/home/biocbuild/bbs-3.20-bioc/R/site-library --timings Guitar_2.22.0.tar.gz StartedAt: 2025-02-03 23:02:43 -0500 (Mon, 03 Feb 2025) EndedAt: 2025-02-03 23:18:58 -0500 (Mon, 03 Feb 2025) EllapsedTime: 974.3 seconds RetCode: 0 Status: OK CheckDir: Guitar.Rcheck Warnings: 0