Package: Guitar Version: 2.22.0 Command: /home/biocbuild/R/R/bin/R CMD build --keep-empty-dirs --no-resave-data Guitar StartedAt: 2025-02-04 00:11:01 -0000 (Tue, 04 Feb 2025) EndedAt: 2025-02-04 00:28:19 -0000 (Tue, 04 Feb 2025) EllapsedTime: 1037.7 seconds RetCode: 0 Status: OK PackageFile: Guitar_2.22.0.tar.gz PackageFileSize: 3.718 MiB