Package: HDF5Array Version: 1.34.0 Command: rm -rf HDF5Array.buildbin-libdir && mkdir HDF5Array.buildbin-libdir && /Users/biocbuild/BBS/utils/build-universal.sh HDF5Array_1.34.0.tar.gz /Library/Frameworks/R.framework/Resources/bin/R HDF5Array.buildbin-libdir StartedAt: 2025-02-05 16:11:04 -0500 (Wed, 05 Feb 2025) EndedAt: 2025-02-05 16:11:38 -0500 (Wed, 05 Feb 2025) EllapsedTime: 34.2 seconds RetCode: 0 Status: OK PackageFile: HDF5Array_1.34.0.tgz PackageFileSize: 10.29 MiB