Package: HDF5Array Version: 1.34.0 Command: /Library/Frameworks/R.framework/Resources/bin/R CMD INSTALL HDF5Array StartedAt: 2025-02-03 15:21:58 -0500 (Mon, 03 Feb 2025) EndedAt: 2025-02-03 15:22:27 -0500 (Mon, 03 Feb 2025) EllapsedTime: 29.7 seconds RetCode: 0 Status: OK