Package: HDF5Array Version: 1.34.0 Command: /home/biocbuild/bbs-3.20-bioc/R/bin/R CMD check --install=check:HDF5Array.install-out.txt --library=/home/biocbuild/bbs-3.20-bioc/R/site-library --timings HDF5Array_1.34.0.tar.gz StartedAt: 2025-02-03 23:06:00 -0500 (Mon, 03 Feb 2025) EndedAt: 2025-02-03 23:11:23 -0500 (Mon, 03 Feb 2025) EllapsedTime: 323.3 seconds RetCode: 0 Status: WARNINGS CheckDir: HDF5Array.Rcheck Warnings: 1