Package: HDF5Array
Version: 1.33.3
Command: chmod a+r HDF5Array -R && C:\Users\biocbuild\bbs-3.20-bioc\R\bin\R.exe CMD build --keep-empty-dirs --no-resave-data HDF5Array
StartedAt: 2024-07-15 18:33:41 -0400 (Mon, 15 Jul 2024)
EndedAt: 2024-07-15 18:33:44 -0400 (Mon, 15 Jul 2024)
EllapsedTime: 3.0 seconds
RetCode: 0
Status: OK
PackageFile: HDF5Array_1.33.3.tar.gz
PackageFileSize: 7.729 <A href="http://en.wikipedia.org/wiki/MiB" target="_blank">MiB</A>