Package: HDF5Array Version: 1.34.0 Command: chmod a+r HDF5Array -R && F:\biocbuild\bbs-3.20-bioc\R\bin\R.exe CMD build --keep-empty-dirs --no-resave-data HDF5Array StartedAt: 2025-02-03 19:42:00 -0500 (Mon, 03 Feb 2025) EndedAt: 2025-02-03 19:42:07 -0500 (Mon, 03 Feb 2025) EllapsedTime: 7.0 seconds RetCode: 0 Status: OK PackageFile: HDF5Array_1.34.0.tar.gz PackageFileSize: 7.728 MiB